BEGIN:VCALENDAR
VERSION:2.0
PRODID:-//eventon.com NONSGML v1.0//EN
CALSCALE:GREGORIAN
METHOD:PUBLISH
BEGIN:VEVENT
UID:69e5e9f60186d
DTSTAMP:20260420T085518Z
DTSTART:20240425T220000Z
DTEND:20240426T030000Z
LOCATION:Warehouse 410 410 Carpenter Street
SUMMARY:Nashville Night with Kyle Fields
DESCRIPTION:Experience the heart and soul of Nashville right here at Wareho
 use 410 on April 25\,  2024\,  as we present &#8220;Nashville Night with Ky
 le Fields&#8221;! Join us from 5 PM to 10 PM for a night filled with live m
 usic\,  featuring Kyle Fields from 6 PM to 9 PM. With his[..]\nhttps://ware
 house410evv.com/events/nashville-night-with-kyle-fields-2024-04-25/
URL:https://warehouse410evv.com/events/nashville-night-with-kyle-fields-2024-04-25/
END:VEVENT
END:VCALENDAR