BEGIN:VCALENDAR
VERSION:2.0
PRODID:-//eventon.com NONSGML v1.0//EN
CALSCALE:GREGORIAN
METHOD:PUBLISH
BEGIN:VEVENT
UID:69e733939c186
DTSTAMP:20260421T082139Z
DTSTART:20250707T020000Z
DTEND:20250707T040000Z
LOCATION:Warehouse 410 410 Carpenter Street
SUMMARY:QR Testing Event
DESCRIPTION:This is not a real event. This event is only used for testing p
 urposes.\nhttps://warehouse410evv.com/events/qr-testing-event/
URL:https://warehouse410evv.com/events/qr-testing-event/
END:VEVENT
END:VCALENDAR